BEGIN:VCALENDAR
VERSION:2.0
PRODID:-//Fair Housing Council of Riverside County - ECPv6.15.11//NONSGML v1.0//EN
CALSCALE:GREGORIAN
METHOD:PUBLISH
X-WR-CALNAME:Fair Housing Council of Riverside County
X-ORIGINAL-URL:https://fairhousing.net
X-WR-CALDESC:Events for Fair Housing Council of Riverside County
REFRESH-INTERVAL;VALUE=DURATION:PT1H
X-Robots-Tag:noindex
X-PUBLISHED-TTL:PT1H
BEGIN:VTIMEZONE
TZID:UTC
BEGIN:STANDARD
TZOFFSETFROM:+0000
TZOFFSETTO:+0000
TZNAME:UTC
DTSTART:20170101T000000
END:STANDARD
END:VTIMEZONE
BEGIN:VEVENT
DTSTART;TZID=UTC:20181113T113000
DTEND;TZID=UTC:20181113T130000
DTSTAMP:20260423T024422
CREATED:20181102T104449Z
LAST-MODIFIED:20181102T112933Z
UID:25863-1542108600-1542114000@fairhousing.net
SUMMARY:Free Fair Housing Town Hall Meeting (Corona)
DESCRIPTION:ONSITE: HUD APPROVED HOUSING COUNSELORS\, LENDERS & LEGAL SERVICES \n\n\n\n\n\nRENTING OR BUYING \nDo you have questions about your rights\, foreclosure\, short sale or bankruptcy\, and don’t know where to start? \nGET VALUABLE INFORMATION ON: \n\nFair Housing & Much More\nMortgage Modification Services\nPredatory Lending\nLandlord/Tenant Issues\n\n\n\n\n\nEARN STRATEGIES THAT MAY HELP YOU AS LANDLORD OR TENANT! \n\n\n\n\nLUNCH WILL BE PROVIDED! \nTopics: \n\nFair Housing\nMortgage Lending\nIdentifying Scam & Predatory Lending\nLegal Rights/Services\nQuestions and Answers\n\nCounselors\, lenders\, local banks\, non-profits\, and contractors will be on hand to answer your questions. Come talk to the experts! \n\n\n\nOPEN to Everyone!\n\n\n\n\n\nCall Fair Housing Council of Riverside County 951-682-6581 or 1-800-655-1812 \nDownload Flyer
URL:https://fairhousing.net/event/corona-town-hall-meeting/
LOCATION:City of Corona City Hall Multi-Purpose Room\, 400 S. Vicentia Avenue\, Corona\, CA\, 92882\, United States
CATEGORIES:Corona,Fair Housing Workshops,Landlord Workshops,Tenant Workshops
ATTACH;FMTTYPE=image/png:https://fairhousing.net/wp-content/uploads/2018/07/FairHousing-logo-512x350.png
ORGANIZER;CN="Fair Housing Council of Riverside County":MAILTO:fhcrc@fairhousing.net
END:VEVENT
END:VCALENDAR