BEGIN:VCALENDAR
VERSION:2.0
PRODID:-//Fair Housing Council of Riverside County - ECPv6.15.11//NONSGML v1.0//EN
CALSCALE:GREGORIAN
METHOD:PUBLISH
X-WR-CALNAME:Fair Housing Council of Riverside County
X-ORIGINAL-URL:https://fairhousing.net
X-WR-CALDESC:Events for Fair Housing Council of Riverside County
REFRESH-INTERVAL;VALUE=DURATION:PT1H
X-Robots-Tag:noindex
X-PUBLISHED-TTL:PT1H
BEGIN:VTIMEZONE
TZID:UTC
BEGIN:STANDARD
TZOFFSETFROM:+0000
TZOFFSETTO:+0000
TZNAME:UTC
DTSTART:20180101T000000
END:STANDARD
END:VTIMEZONE
BEGIN:VEVENT
DTSTART;TZID=UTC:20190722T090000
DTEND;TZID=UTC:20190722T140000
DTSTAMP:20260422T144946
CREATED:20190705T142851Z
LAST-MODIFIED:20190705T143840Z
UID:25983-1563786000-1563804000@fairhousing.net
SUMMARY:Fair Housing Testers Training
DESCRIPTION:FAIR HOUSING TESTERS TRAINING WORKSHOP\nThis free training workshop is required to become a Fair Housing Tester. \nTester Job Description: \nOn Call/as needed\n$50 – $100 per completed assignment\n58 cents per mile for travel \nRequirements: \n\nMust be 18 years of age\nValid Driver license/ID\nNo felony convictions\nNo criminal convictions involving perjury or fraud\nGood driving record\nReliable transportation\nAvailable during normal business hours\nAttend five hour Training\n\nMUST CALL TO REGISTER FOR TRAINING\nTO REGISTER FOR FREE TRAINING PLEASE CALL: (951) 682-6581 OR (800) 655-1812 \nDownload Brochure
URL:https://fairhousing.net/event/fair-housing-testers-training/
LOCATION:Palm Springs City Hall\, 3200 E. Tahquitz Canyon Way\, Palm Springs\, CA\, 92262\, United States
CATEGORIES:Inland Empire,Palm Springs
ATTACH;FMTTYPE=image/png:https://fairhousing.net/wp-content/uploads/2018/07/FairHousing-logo-512x350.png
ORGANIZER;CN="Fair Housing Council of Riverside County":MAILTO:fhcrc@fairhousing.net
END:VEVENT
END:VCALENDAR