BEGIN:VCALENDAR
VERSION:2.0
PRODID:-//Fair Housing Council of Riverside County - ECPv6.15.11//NONSGML v1.0//EN
CALSCALE:GREGORIAN
METHOD:PUBLISH
X-ORIGINAL-URL:https://fairhousing.net
X-WR-CALDESC:Events for Fair Housing Council of Riverside County
REFRESH-INTERVAL;VALUE=DURATION:PT1H
X-Robots-Tag:noindex
X-PUBLISHED-TTL:PT1H
BEGIN:VTIMEZONE
TZID:UTC
BEGIN:STANDARD
TZOFFSETFROM:+0000
TZOFFSETTO:+0000
TZNAME:UTC
DTSTART:20200101T000000
END:STANDARD
END:VTIMEZONE
BEGIN:VEVENT
DTSTART;TZID=UTC:20210426T110000
DTEND;TZID=UTC:20210430T123000
DTSTAMP:20260420T225154
CREATED:20210331T125616Z
LAST-MODIFIED:20210331T143610Z
UID:27001-1619434800-1619785800@fairhousing.net
SUMMARY:2021 Fair Housing Roundtables
DESCRIPTION:SAVE THE DATE \nPlease join the Fair Housing Council of Riverside County\, Inc. for a five-day series of fair housing roundtable discussions. \nTOPICS INCLUDE: \n\nDisability Related Housing Discrimination\nSex Discrimination\nDesign and Construction Accessibility Requirements\nFair Housing Post COVID-19\nImpediments to Affordable Housing & Fair Housing\n\nMore information on our Roundtable event page
URL:https://fairhousing.net/event/2021-fair-housing-roundtables/
LOCATION:Online
CATEGORIES:Fair Housing Workshops
ATTACH;FMTTYPE=image/jpeg:https://fairhousing.net/wp-content/uploads/2021/03/2021-Fair-Housing-Roundtables.jpg
ORGANIZER;CN="Fair Housing Council of Riverside County":MAILTO:fhcrc@fairhousing.net
END:VEVENT
END:VCALENDAR