BEGIN:VCALENDAR
VERSION:2.0
PRODID:-//Fair Housing Council of Riverside County - ECPv6.15.11//NONSGML v1.0//EN
CALSCALE:GREGORIAN
METHOD:PUBLISH
X-WR-CALNAME:Fair Housing Council of Riverside County
X-ORIGINAL-URL:https://fairhousing.net
X-WR-CALDESC:Events for Fair Housing Council of Riverside County
REFRESH-INTERVAL;VALUE=DURATION:PT1H
X-Robots-Tag:noindex
X-PUBLISHED-TTL:PT1H
BEGIN:VTIMEZONE
TZID:UTC
BEGIN:STANDARD
TZOFFSETFROM:+0000
TZOFFSETTO:+0000
TZNAME:UTC
DTSTART:20200101T000000
END:STANDARD
END:VTIMEZONE
BEGIN:VEVENT
DTSTART;TZID=UTC:20210727T120000
DTEND;TZID=UTC:20210727T130000
DTSTAMP:20260420T183019
CREATED:20210710T111832Z
LAST-MODIFIED:20210722T130403Z
UID:27225-1627387200-1627390800@fairhousing.net
SUMMARY:Webinar
DESCRIPTION:
URL:https://fairhousing.net/event/webinar/
LOCATION:Online
END:VEVENT
END:VCALENDAR