BEGIN:VCALENDAR
VERSION:2.0
PRODID:-//Fair Housing Council of Riverside County - ECPv6.15.11//NONSGML v1.0//EN
CALSCALE:GREGORIAN
METHOD:PUBLISH
X-ORIGINAL-URL:https://fairhousing.net
X-WR-CALDESC:Events for Fair Housing Council of Riverside County
REFRESH-INTERVAL;VALUE=DURATION:PT1H
X-Robots-Tag:noindex
X-PUBLISHED-TTL:PT1H
BEGIN:VTIMEZONE
TZID:UTC
BEGIN:STANDARD
TZOFFSETFROM:+0000
TZOFFSETTO:+0000
TZNAME:UTC
DTSTART:20200101T000000
END:STANDARD
END:VTIMEZONE
BEGIN:VEVENT
DTSTART;TZID=UTC:20210810T100000
DTEND;TZID=UTC:20210810T120000
DTSTAMP:20260420T183323
CREATED:20210622T144034Z
LAST-MODIFIED:20210811T113253Z
UID:27137-1628589600-1628596800@fairhousing.net
SUMMARY:Community Partners Meeting
DESCRIPTION:
URL:https://fairhousing.net/event/community-partners-meeting/
LOCATION:North Annex\, 29995 Evans Road\, Menifee\, CA\, 92586\, United States
CATEGORIES:Community Partners Meeting,Menifee
END:VEVENT
END:VCALENDAR