BEGIN:VCALENDAR
VERSION:2.0
PRODID:-//Fair Housing Council of Riverside County - ECPv6.15.11//NONSGML v1.0//EN
CALSCALE:GREGORIAN
METHOD:PUBLISH
X-WR-CALNAME:Fair Housing Council of Riverside County
X-ORIGINAL-URL:https://fairhousing.net
X-WR-CALDESC:Events for Fair Housing Council of Riverside County
REFRESH-INTERVAL;VALUE=DURATION:PT1H
X-Robots-Tag:noindex
X-PUBLISHED-TTL:PT1H
BEGIN:VTIMEZONE
TZID:UTC
BEGIN:STANDARD
TZOFFSETFROM:+0000
TZOFFSETTO:+0000
TZNAME:UTC
DTSTART:20210101T000000
END:STANDARD
END:VTIMEZONE
BEGIN:VEVENT
DTSTART;TZID=UTC:20221209T130000
DTEND;TZID=UTC:20221209T140000
DTSTAMP:20260419T194443
CREATED:20221117T143657Z
LAST-MODIFIED:20221205T073928Z
UID:27804-1670590800-1670594400@fairhousing.net
SUMMARY:Virtual Town Hall Series
DESCRIPTION:2022 Virtual Town Hall Series  \nDiscussion\, exchange experiences\, knowledge\, provide innovation\, and learn about the latest topics in housing. \nTopics  \n\nDiscuss transitional housing for persons who are suffering from housing insecurity due to housing shortages\, housing discrimination and stigmas often associated with persons who are or were formerly homeless.\nParticipants will also learn about identifying discriminatory housing practices so that all individuals are treated fairly and equally during the rental process.\nTell us what topics you want to learn about. Take our Town Hall Meeting topic survey
URL:https://fairhousing.net/event/town-hall-series/
LOCATION:Virtual
CATEGORIES:Town Hall Meetings
ATTACH;FMTTYPE=image/png:https://fairhousing.net/wp-content/uploads/2022/11/Town-Hall-Series-December-9.png
ORGANIZER;CN="Fair Housing Council of Riverside County":MAILTO:fhcrc@fairhousing.net
END:VEVENT
END:VCALENDAR