BEGIN:VCALENDAR
VERSION:2.0
PRODID:-//Fair Housing Council of Riverside County - ECPv6.15.11//NONSGML v1.0//EN
CALSCALE:GREGORIAN
METHOD:PUBLISH
X-ORIGINAL-URL:https://fairhousing.net
X-WR-CALDESC:Events for Fair Housing Council of Riverside County
REFRESH-INTERVAL;VALUE=DURATION:PT1H
X-Robots-Tag:noindex
X-PUBLISHED-TTL:PT1H
BEGIN:VTIMEZONE
TZID:UTC
BEGIN:STANDARD
TZOFFSETFROM:+0000
TZOFFSETTO:+0000
TZNAME:UTC
DTSTART:20210101T000000
END:STANDARD
END:VTIMEZONE
BEGIN:VEVENT
DTSTART;TZID=UTC:20221213T130000
DTEND;TZID=UTC:20221213T140000
DTSTAMP:20260419T195056
CREATED:20221117T144411Z
LAST-MODIFIED:20221205T080244Z
UID:27811-1670936400-1670940000@fairhousing.net
SUMMARY:Virtual Town Hall Series
DESCRIPTION:2022 Virtual Town Hall Series  \nDiscussion\, exchange experiences\, knowledge\, provide innovation\, and learn about the latest topics in housing. \nTopics  \n\nDiscuss room and board options for persons who are extremely low income\, often homeless or displaced due to a mental or physical disability.\nFHCRC will also discuss how housing discrimination impacts room and boards because of NIMBYism\nTell us what topics you want to learn about. Take our Town Hall Meeting topic survey
URL:https://fairhousing.net/event/virtual-town-hall-series-2/
LOCATION:Virtual
CATEGORIES:Town Hall Meetings
ATTACH;FMTTYPE=image/png:https://fairhousing.net/wp-content/uploads/2022/11/Town-Hall-Series-December-13.png
ORGANIZER;CN="Fair Housing Council of Riverside County":MAILTO:fhcrc@fairhousing.net
END:VEVENT
END:VCALENDAR