BEGIN:VCALENDAR
VERSION:2.0
PRODID:-//Fair Housing Council of Riverside County - ECPv6.15.11//NONSGML v1.0//EN
CALSCALE:GREGORIAN
METHOD:PUBLISH
X-ORIGINAL-URL:https://fairhousing.net
X-WR-CALDESC:Events for Fair Housing Council of Riverside County
REFRESH-INTERVAL;VALUE=DURATION:PT1H
X-Robots-Tag:noindex
X-PUBLISHED-TTL:PT1H
BEGIN:VTIMEZONE
TZID:UTC
BEGIN:STANDARD
TZOFFSETFROM:+0000
TZOFFSETTO:+0000
TZNAME:UTC
DTSTART:20170101T000000
END:STANDARD
END:VTIMEZONE
BEGIN:VEVENT
DTSTART;TZID=UTC:20181113T113000
DTEND;TZID=UTC:20181113T130000
DTSTAMP:20260423T010645
CREATED:20181102T104449Z
LAST-MODIFIED:20181102T112933Z
UID:25863-1542108600-1542114000@fairhousing.net
SUMMARY:Free Fair Housing Town Hall Meeting (Corona)
DESCRIPTION:ONSITE: HUD APPROVED HOUSING COUNSELORS\, LENDERS & LEGAL SERVICES \n\n\n\n\n\nRENTING OR BUYING \nDo you have questions about your rights\, foreclosure\, short sale or bankruptcy\, and don’t know where to start? \nGET VALUABLE INFORMATION ON: \n\nFair Housing & Much More\nMortgage Modification Services\nPredatory Lending\nLandlord/Tenant Issues\n\n\n\n\n\nEARN STRATEGIES THAT MAY HELP YOU AS LANDLORD OR TENANT! \n\n\n\n\nLUNCH WILL BE PROVIDED! \nTopics: \n\nFair Housing\nMortgage Lending\nIdentifying Scam & Predatory Lending\nLegal Rights/Services\nQuestions and Answers\n\nCounselors\, lenders\, local banks\, non-profits\, and contractors will be on hand to answer your questions. Come talk to the experts! \n\n\n\nOPEN to Everyone!\n\n\n\n\n\nCall Fair Housing Council of Riverside County 951-682-6581 or 1-800-655-1812 \nDownload Flyer
URL:https://fairhousing.net/event/corona-town-hall-meeting/
LOCATION:City of Corona City Hall Multi-Purpose Room\, 400 S. Vicentia Avenue\, Corona\, CA\, 92882\, United States
CATEGORIES:Corona,Fair Housing Workshops,Landlord Workshops,Tenant Workshops
ATTACH;FMTTYPE=image/png:https://fairhousing.net/wp-content/uploads/2018/07/FairHousing-logo-512x350.png
ORGANIZER;CN="Fair Housing Council of Riverside County":MAILTO:fhcrc@fairhousing.net
END:VEVENT
BEGIN:VEVENT
DTSTART;TZID=UTC:20181117T090000
DTEND;TZID=UTC:20181117T170000
DTSTAMP:20260423T010645
CREATED:20180424T225604Z
LAST-MODIFIED:20180424T225604Z
UID:25649-1542445200-1542474000@fairhousing.net
SUMMARY:First Time Homebuyer Workshops
DESCRIPTION:A Free Educational Workshop \nIf you dream of owning your own home\, attend our free workshop and you will learn the steps required to purchase a home\, including how to qualify for first-time homebuyer benefits and programs. Learn how to access various city\, county and state programs to cover most of the costs you will be faced with to purchase your first home. Potential homebuyers are provided with valuable instruction on all important pre-purchase decisions and how to qualify for a home loan in this informative\, interactive workshop. \nWhat you will learn: \n\nThe Importance of Budgeting\nMortgage Loan Process\nThe Home buying Process\nFinding The Right Home\nIdentifying predatory lending\nHow Credit scores impact you\nDown Payment Assistance\n\nThe Fair Housing Council a HUD Approved Non Profit Housing Counseling Agency \n*Please bring a Photo ID the day of the workshop.
URL:https://fairhousing.net/event/first-time-homebuyer-workshops-10/
LOCATION:Fair Housing Council Palm Springs Office\, 655 North Palm Canyon Road\, Suite 202\, Palm Springs\, CA\, 92262\, United States
CATEGORIES:Fair Housing Workshops,First Time Homebuyers,Inland Empire,Palm Springs
ORGANIZER;CN="Fair Housing Council of Riverside County":MAILTO:fhcrc@fairhousing.net
END:VEVENT
BEGIN:VEVENT
DTSTART;TZID=UTC:20181120T080000
DTEND;TZID=UTC:20181120T100000
DTSTAMP:20260423T010645
CREATED:20181014T091805Z
LAST-MODIFIED:20181015T101612Z
UID:25854-1542700800-1542708000@fairhousing.net
SUMMARY:Thanksgiving Basket Giveaway
DESCRIPTION:To be eligible for the event you need a current utility bill in your name\, a valid government issued ID and live in zip codes 92501 through 92509. \nThe event will be held on November 20\, 2018 \nYou must pre-register starting October 16\, 2018 \nSign-up Location: 4164 Brockton Avenue\, Riverside \nWhen: Tuesdays & Thursdays\, 9 AM – 1 PM \n951-682-6581 \nDownload Flyer
URL:https://fairhousing.net/event/thanksgiving-basket-giveaway/
LOCATION:Mission Heritage Plaza\, 3933 Mission Inn Avenue\, Riverside\, CA\, 92501\, United States
CATEGORIES:Riverside
ATTACH;FMTTYPE=image/jpeg:https://fairhousing.net/wp-content/uploads/2018/10/Thanksgiving-Giveaway-FB.jpg
ORGANIZER;CN="Fair Housing Council of Riverside County":MAILTO:fhcrc@fairhousing.net
END:VEVENT
END:VCALENDAR