BEGIN:VCALENDAR
VERSION:2.0
PRODID:-//Fair Housing Council of Riverside County - ECPv6.15.11//NONSGML v1.0//EN
CALSCALE:GREGORIAN
METHOD:PUBLISH
X-ORIGINAL-URL:https://fairhousing.net
X-WR-CALDESC:Events for Fair Housing Council of Riverside County
REFRESH-INTERVAL;VALUE=DURATION:PT1H
X-Robots-Tag:noindex
X-PUBLISHED-TTL:PT1H
BEGIN:VTIMEZONE
TZID:UTC
BEGIN:STANDARD
TZOFFSETFROM:+0000
TZOFFSETTO:+0000
TZNAME:UTC
DTSTART:20180101T000000
END:STANDARD
END:VTIMEZONE
BEGIN:VEVENT
DTSTART;TZID=UTC:20190615T090000
DTEND;TZID=UTC:20190615T170000
DTSTAMP:20260422T145114
CREATED:20190130T144316Z
LAST-MODIFIED:20190130T144316Z
UID:25913-1560589200-1560618000@fairhousing.net
SUMMARY:First Time Homebuyer Workshop
DESCRIPTION:A Free Educational Workshop \nIf you dream of owning your own home\, attend our free workshop and you will learn the steps required to purchase a home\, including how to qualify for first-time homebuyer benefits and programs. Learn how to access various city\, county and state programs to cover most of the costs you will be faced with to purchase your first home. Potential homebuyers are provided with valuable instruction on all important pre-purchase decisions and how to qualify for a home loan in this informative\, interactive workshop. \nWhat you will learn: \n\nThe Importance of Budgeting\nMortgage Loan Process\nThe Home buying Process\nFinding The Right Home\nIdentifying predatory lending\nHow Credit scores impact you\nDown Payment Assistance\n\nThe Fair Housing Council a HUD Approved Non Profit Housing Counseling Agency \n*Please bring a Photo ID the day of the workshop.
URL:https://fairhousing.net/event/first-time-homebuyer-workshop-6/
LOCATION:City of Menifee\, City Hall\, 29844 Huan Road\, Menifee\, CA\, 92586\, United States
CATEGORIES:Fair Housing Workshops,First Time Homebuyers,Inland Empire,Menifee
ORGANIZER;CN="Fair Housing Council of Riverside County":MAILTO:fhcrc@fairhousing.net
END:VEVENT
BEGIN:VEVENT
DTSTART;TZID=UTC:20190627T113000
DTEND;TZID=UTC:20190627T130000
DTSTAMP:20260422T145114
CREATED:20190619T124435Z
LAST-MODIFIED:20190619T124435Z
UID:25976-1561635000-1561640400@fairhousing.net
SUMMARY:Fair Housing Town Hall Meeting Set for June 27 in Moreno Valley
DESCRIPTION:The meeting is free to the public and will feature presentations of interest to anyone looking to purchase a home\, as well as for persons facing any housing issues. \nTopics of discussion will include fair housing and discrimination\, legal rights\, the home buying process including mortgage lending and realtor advice\, reverse mortgages\, foreclosure prevention\, loan modification services\, identifying predatory lending\, the importance of budgeting and solar energy.  \nIn addition\, HUD certified counselors will be available to discuss fair housing issues including discrimination in housing. \nFor more information\, please contact Johnnie Jones at (951) 653-8314.
URL:https://fairhousing.net/event/fair-housing-town-hall-meeting-set-for-june-27-in-moreno-valley/
LOCATION:Moreno Valley City Hall\, 14177 Fredrick St.\, Moreno Valley\, CA\, 92553\, United States
CATEGORIES:Fair Housing Workshops,Inland Empire
ATTACH;FMTTYPE=image/png:https://fairhousing.net/wp-content/uploads/2018/07/FairHousing-logo-512x350.png
ORGANIZER;CN="Fair Housing Council of Riverside County":MAILTO:fhcrc@fairhousing.net
END:VEVENT
END:VCALENDAR