BEGIN:VCALENDAR
VERSION:2.0
PRODID:-//Fair Housing Council of Riverside County - ECPv6.15.11//NONSGML v1.0//EN
CALSCALE:GREGORIAN
METHOD:PUBLISH
X-ORIGINAL-URL:https://fairhousing.net
X-WR-CALDESC:Events for Fair Housing Council of Riverside County
REFRESH-INTERVAL;VALUE=DURATION:PT1H
X-Robots-Tag:noindex
X-PUBLISHED-TTL:PT1H
BEGIN:VTIMEZONE
TZID:UTC
BEGIN:STANDARD
TZOFFSETFROM:+0000
TZOFFSETTO:+0000
TZNAME:UTC
DTSTART:20190101T000000
END:STANDARD
END:VTIMEZONE
BEGIN:VEVENT
DTSTART;TZID=UTC:20200314T090000
DTEND;TZID=UTC:20200314T170000
DTSTAMP:20260421T205731
CREATED:20200217T135547Z
LAST-MODIFIED:20200217T135547Z
UID:26078-1584176400-1584205200@fairhousing.net
SUMMARY:First Time Homebuyer
DESCRIPTION:A Free Educational Workshop \nIf you dream of owning your own home\, attend our free workshop and you will learn the steps required to purchase a home\, including how to qualify for first-time homebuyer benefits and programs. Learn how to access various city\, county and state programs to cover most of the costs you will be faced with to purchase your first home. Potential homebuyers are provided with valuable instruction on all important pre-purchase decisions and how to qualify for a home loan in this informative\, interactive workshop. \nWhat you will learn: \n\nThe Importance of Budgeting\nMortgage Loan Process\nThe Home buying Process\nFinding The Right Home\nIdentifying predatory lending\nHow Credit scores impact you\nDown Payment Assistance\n\nThe Fair Housing Council a HUD Approved Non Profit Housing Counseling Agency \nTo attend a First Time Homebuyer Workshop please call to sign-up at 1-800-655-1812 or 951-682-6581 \nTIMES AND PLACES MAY BE SUBJECT TO CHANGE \nFunding Partners: HUD\, Bank of America\, Wells Fargo Bank\, Wakeland Corp\, Union Bank\, US Bank \n*Please bring a Photo ID the day of the workshop.
URL:https://fairhousing.net/event/first-time-homebuyer/
LOCATION:Bank of America Community Room\, 74-774 US Highway 111\, Indian Wells\, CA\, 92210\, United States
CATEGORIES:First Time Homebuyers,Inland Empire
ORGANIZER;CN="Fair Housing Council of Riverside County":MAILTO:fhcrc@fairhousing.net
END:VEVENT
BEGIN:VEVENT
DTSTART;TZID=UTC:20200318T140000
DTEND;TZID=UTC:20200318T153000
DTSTAMP:20260421T205731
CREATED:20200306T125559Z
LAST-MODIFIED:20200306T125559Z
UID:26087-1584540000-1584545400@fairhousing.net
SUMMARY:Town Hall Meeting - Rent Control Law
DESCRIPTION:Town Hall Meeting – Understanding California’s New Rent Control Law (Civil Code 1947.12 AB1482) \n\nWho and What is covered under the law?\nWhat are the increase limits?\nJust causes for eviction\nExplanation of allowed increases and rollbacks\nHow is the law enforced?\nReporting violations\nBring all your Fair Housing questions
URL:https://fairhousing.net/event/town-hall-meeting-rent-control-law/
LOCATION:Palm Springs City Hall\, 3200 E. Tahquitz Canyon Way\, Palm Springs\, CA\, 92262\, United States
CATEGORIES:Fair Housing Workshops,Palm Springs
ATTACH;FMTTYPE=image/png:https://fairhousing.net/wp-content/uploads/2020/03/Screen-Shot-2020-03-05-at-8.55.17-PM.png
ORGANIZER;CN="Fair Housing Council of Riverside County":MAILTO:fhcrc@fairhousing.net
END:VEVENT
END:VCALENDAR