BEGIN:VCALENDAR
VERSION:2.0
PRODID:-//Fair Housing Council of Riverside County - ECPv6.15.11//NONSGML v1.0//EN
CALSCALE:GREGORIAN
METHOD:PUBLISH
X-ORIGINAL-URL:https://fairhousing.net
X-WR-CALDESC:Events for Fair Housing Council of Riverside County
REFRESH-INTERVAL;VALUE=DURATION:PT1H
X-Robots-Tag:noindex
X-PUBLISHED-TTL:PT1H
BEGIN:VTIMEZONE
TZID:UTC
BEGIN:STANDARD
TZOFFSETFROM:+0000
TZOFFSETTO:+0000
TZNAME:UTC
DTSTART:20200101T000000
END:STANDARD
END:VTIMEZONE
BEGIN:VEVENT
DTSTART;TZID=UTC:20210605T070000
DTEND;TZID=UTC:20210605T160000
DTSTAMP:20260420T212041
CREATED:20210624T120320Z
LAST-MODIFIED:20210702T131620Z
UID:27166-1622876400-1622908800@fairhousing.net
SUMMARY:Vaccine Site
DESCRIPTION:
URL:https://fairhousing.net/event/vaccine-site-3/
LOCATION:Vista del Lago High School\, 15150 Lasselle Street\, Moreno Valley\, CA\, 92551\, United States
CATEGORIES:Moreno Valley
END:VEVENT
BEGIN:VEVENT
DTSTART;TZID=UTC:20210608T100000
DTEND;TZID=UTC:20210608T120000
DTSTAMP:20260420T212041
CREATED:20210702T131748Z
LAST-MODIFIED:20210702T131748Z
UID:27185-1623146400-1623153600@fairhousing.net
SUMMARY:Community Partners Meeting
DESCRIPTION:
URL:https://fairhousing.net/event/community-partners-meeting-2/
LOCATION:Virtual
CATEGORIES:Community Partners Meeting
END:VEVENT
BEGIN:VEVENT
DTSTART;TZID=UTC:20210614T150000
DTEND;TZID=UTC:20210614T200000
DTSTAMP:20260420T212041
CREATED:20210624T120156Z
LAST-MODIFIED:20210624T120156Z
UID:27162-1623682800-1623700800@fairhousing.net
SUMMARY:Night Market Event
DESCRIPTION:
URL:https://fairhousing.net/event/night-market-event/
LOCATION:Circle City Center\, Corona\, CA\, United States
CATEGORIES:Community Event,Corona
END:VEVENT
BEGIN:VEVENT
DTSTART;TZID=UTC:20210618T183000
DTEND;TZID=UTC:20210618T220000
DTSTAMP:20260420T212041
CREATED:20210622T144734Z
LAST-MODIFIED:20210702T131516Z
UID:27147-1624041000-1624053600@fairhousing.net
SUMMARY:Moonlight Market
DESCRIPTION:
URL:https://fairhousing.net/event/moonlight-market/
LOCATION:Central Park\, 30268 Civic Plaza Drive\, Menifee\, CA\, 92586\, United States
CATEGORIES:Community Event,Menifee
END:VEVENT
BEGIN:VEVENT
DTSTART;TZID=UTC:20210619T120000
DTEND;TZID=UTC:20210619T170000
DTSTAMP:20260420T212041
CREATED:20210622T144514Z
LAST-MODIFIED:20210702T131453Z
UID:27144-1624104000-1624122000@fairhousing.net
SUMMARY:Juneteenth
DESCRIPTION:
URL:https://fairhousing.net/event/juneteenth/
LOCATION:Fairmount Park\, 2601 Fairmount Blvd.\, Riversider\, CA\, 92501\, United States
CATEGORIES:Community Event,Riverside
END:VEVENT
BEGIN:VEVENT
DTSTART;TZID=UTC:20210623T100000
DTEND;TZID=UTC:20210623T180000
DTSTAMP:20260420T212041
CREATED:20210624T115922Z
LAST-MODIFIED:20210702T131426Z
UID:27158-1624442400-1624471200@fairhousing.net
SUMMARY:Vaccine Site
DESCRIPTION:
URL:https://fairhousing.net/event/vaccine-site-2/
LOCATION:Marion V Ashley Community Center\, 25625 Briggs Rd\, Menifee\, CA\, 92585\, United States
CATEGORIES:Romoland/Homeland
END:VEVENT
BEGIN:VEVENT
DTSTART;TZID=UTC:20210625T170000
DTEND;TZID=UTC:20210625T190000
DTSTAMP:20260420T212041
CREATED:20210622T142901Z
LAST-MODIFIED:20210702T131359Z
UID:27119-1624640400-1624647600@fairhousing.net
SUMMARY:Informational Pop-Up
DESCRIPTION:
URL:https://fairhousing.net/event/informational-pop-up/
LOCATION:Paragon Park (Fitness Court)\, 264 Spectacular Bid\, Perris\, CA\, 92571\, United States
CATEGORIES:Informational Pop-Up,Perris
ATTACH;FMTTYPE=image/png:https://fairhousing.net/wp-content/uploads/2021/06/ENGLISH-FLYER-1.png
END:VEVENT
BEGIN:VEVENT
DTSTART;TZID=UTC:20210629T100000
DTEND;TZID=UTC:20210629T130000
DTSTAMP:20260420T212041
CREATED:20210622T143256Z
LAST-MODIFIED:20210702T131249Z
UID:27124-1624960800-1624971600@fairhousing.net
SUMMARY:Help Center Outreach Event
DESCRIPTION:
URL:https://fairhousing.net/event/help-center-outreach-event/
LOCATION:28922 Pujol Street Temecula\, CA 92590
CATEGORIES:Help Center Outreach
END:VEVENT
END:VCALENDAR