BEGIN:VCALENDAR
VERSION:2.0
PRODID:-//Fair Housing Council of Riverside County - ECPv6.15.11//NONSGML v1.0//EN
CALSCALE:GREGORIAN
METHOD:PUBLISH
X-WR-CALNAME:Fair Housing Council of Riverside County
X-ORIGINAL-URL:https://fairhousing.net
X-WR-CALDESC:Events for Fair Housing Council of Riverside County
REFRESH-INTERVAL;VALUE=DURATION:PT1H
X-Robots-Tag:noindex
X-PUBLISHED-TTL:PT1H
BEGIN:VTIMEZONE
TZID:UTC
BEGIN:STANDARD
TZOFFSETFROM:+0000
TZOFFSETTO:+0000
TZNAME:UTC
DTSTART:20210101T000000
END:STANDARD
END:VTIMEZONE
BEGIN:VEVENT
DTSTART;TZID=UTC:20220506T130000
DTEND;TZID=UTC:20220506T140000
DTSTAMP:20260420T041933
CREATED:20220408T115501Z
LAST-MODIFIED:20220421T115848Z
UID:27616-1651842000-1651845600@fairhousing.net
SUMMARY:Virtual Housing Town Hall Series - Criminal History/Credit Screening
DESCRIPTION:2022 Virtual Town Hall Series – Criminal History/Credit Screening \nDiscussion\, exchange experiences\, knowledge\, provide innovation\, and learn about the latest topics in housing. \nTopics  \n\nEx-Felon\, Ex-Convict\nScreening Policy\nThird Party Screening\nIs Landlord responsible for 3rd party screening errors or violations?\nKeeping credit reports on file/providing copy to applicant upon denial.\nFelonies and misdemeanors\nLength of time since offense occurred.
URL:https://fairhousing.net/event/virtual-housing-town-hall-series-criminal-history-credit-screening/
LOCATION:Virtual
CATEGORIES:Town Hall Meetings
ATTACH;FMTTYPE=image/png:https://fairhousing.net/wp-content/uploads/2022/04/Virtual-Town-Hall-Series-Criminal-HistoryCredit-Screening.png
ORGANIZER;CN="Fair Housing Council of Riverside County":MAILTO:fhcrc@fairhousing.net
END:VEVENT
BEGIN:VEVENT
DTSTART;TZID=UTC:20220513T130000
DTEND;TZID=UTC:20220513T140000
DTSTAMP:20260420T041933
CREATED:20220408T115630Z
LAST-MODIFIED:20220421T115951Z
UID:27618-1652446800-1652450400@fairhousing.net
SUMMARY:Virtual Housing Town Hall Series - Emotional Support/Service Animals
DESCRIPTION:2022 Virtual Town Hall Series – Emotional Support/Service Animals \nDiscussion\, exchange experiences\, knowledge\, provide innovation\, and learn about the latest topics in housing. \nTopics  \n\nOver the weight limit\nSpecies and breed restrictions.\nCertification required to receive Reasonable accommodation\nPrivate vs public housing.\nLoud\, destructive or aggressive animals
URL:https://fairhousing.net/event/virtual-housing-town-hall-series-emotional-support-service-animals/
LOCATION:Virtual
CATEGORIES:Town Hall Meetings
ATTACH;FMTTYPE=image/png:https://fairhousing.net/wp-content/uploads/2022/04/Virtual-Town-Hall-Series-Emotional-SupportService-Animals-.png
ORGANIZER;CN="Fair Housing Council of Riverside County":MAILTO:fhcrc@fairhousing.net
END:VEVENT
BEGIN:VEVENT
DTSTART;TZID=UTC:20220520T130000
DTEND;TZID=UTC:20220520T140000
DTSTAMP:20260420T041933
CREATED:20220408T115739Z
LAST-MODIFIED:20220421T120043Z
UID:27620-1653051600-1653055200@fairhousing.net
SUMMARY:Virtual Housing Town Hall Series - Sexual Harassment Policy
DESCRIPTION:2022 Virtual Town Hall Series – Sexual Harassment Policy \nDiscussion\, exchange experiences\, knowledge\, provide innovation\, and learn about the latest topics in housing. \nTopics  \n\nPotential Applicants\nOnly a child present when worker comes to make repairs or inspection.\nEmployees dating or having romantic encounters with residents.\nBeing close friends\, going to parties or social gatherings with residents.
URL:https://fairhousing.net/event/virtual-housing-town-hall-series-sexual-harassment-policy/
LOCATION:Virtual
CATEGORIES:Town Hall Meetings
ATTACH;FMTTYPE=image/png:https://fairhousing.net/wp-content/uploads/2022/04/Virtual-Town-Hall-Series-Sexual-Harassment-Policy.png
ORGANIZER;CN="Fair Housing Council of Riverside County":MAILTO:fhcrc@fairhousing.net
END:VEVENT
END:VCALENDAR