BEGIN:VCALENDAR
VERSION:2.0
PRODID:-//Fair Housing Council of Riverside County - ECPv6.15.11//NONSGML v1.0//EN
CALSCALE:GREGORIAN
METHOD:PUBLISH
X-WR-CALNAME:Fair Housing Council of Riverside County
X-ORIGINAL-URL:https://fairhousing.net
X-WR-CALDESC:Events for Fair Housing Council of Riverside County
REFRESH-INTERVAL;VALUE=DURATION:PT1H
X-Robots-Tag:noindex
X-PUBLISHED-TTL:PT1H
BEGIN:VTIMEZONE
TZID:UTC
BEGIN:STANDARD
TZOFFSETFROM:+0000
TZOFFSETTO:+0000
TZNAME:UTC
DTSTART:20220101T000000
END:STANDARD
END:VTIMEZONE
BEGIN:VEVENT
DTSTART;TZID=UTC:20230211T090000
DTEND;TZID=UTC:20230211T170000
DTSTAMP:20260419T151034
CREATED:20221228T160425Z
LAST-MODIFIED:20221228T160425Z
UID:27848-1676106000-1676134800@fairhousing.net
SUMMARY:First Time Homebuyer Workshop
DESCRIPTION:RSVP Required: http://bit.ly/3FVYTLH +1-951-682-6581 ext152 or gjarrin@fairhousing.net\nIf you dream of owning your own home\, attend our free workshop and you will learn the steps required to purchase a home\, including how to qualify for first-time homebuyer benefits and programs. Learn how to access various city\, county and state programs to cover most of the costs you will be faced with to purchase your first home. Potential homebuyers are provided with valuable instruction on all important pre-purchase decisions and how to qualify for a home loan in this informative\, interactive workshop. \nWhat You Will Learn: \n\nThe Importance of Budgeting\nMortgage Loan Process\nThe Home buying Process\nFinding The Right Home\nIdentifying predatory lending\nHow Credit scores impact you\nDown Payment Assistance\n\nCertified by Housing Urban Development (HUD) to certify First Time Home Buyers \nFunding Partners: Bank of America\, Wells Fargo\, Wakeland Corp\, Union Bank\, US Bank and City of Riverside \nDownload Flyer
URL:https://fairhousing.net/event/first-time-homebuyer-workshop-20/
LOCATION:Fair Housing Council of Riverside Main Office\, 3933 Mission Inn Ave\, Riverside\, CA\, 92501\, United States
CATEGORIES:Fair Housing Workshops,First Time Homebuyers
ATTACH;FMTTYPE=image/png:https://fairhousing.net/wp-content/uploads/2022/12/First-Time-Homebuyers-Workshops-2022-2023.png
ORGANIZER;CN="Fair Housing Council of Riverside County":MAILTO:fhcrc@fairhousing.net
END:VEVENT
BEGIN:VEVENT
DTSTART;TZID=UTC:20230225T090000
DTEND;TZID=UTC:20230225T170000
DTSTAMP:20260419T151034
CREATED:20221228T160621Z
LAST-MODIFIED:20221228T160714Z
UID:27853-1677315600-1677344400@fairhousing.net
SUMMARY:First Time Homebuyer Workshop (SPANISH)
DESCRIPTION:RSVP Required: http://bit.ly/3FVYTLH +1-951-682-6581 ext152 or gjarrin@fairhousing.net\nIf you dream of owning your own home\, attend our free workshop and you will learn the steps required to purchase a home\, including how to qualify for first-time homebuyer benefits and programs. Learn how to access various city\, county and state programs to cover most of the costs you will be faced with to purchase your first home. Potential homebuyers are provided with valuable instruction on all important pre-purchase decisions and how to qualify for a home loan in this informative\, interactive workshop. \nWhat You Will Learn: \n\nThe Importance of Budgeting\nMortgage Loan Process\nThe Home buying Process\nFinding The Right Home\nIdentifying predatory lending\nHow Credit scores impact you\nDown Payment Assistance\n\nCertified by Housing Urban Development (HUD) to certify First Time Home Buyers \nFunding Partners: Bank of America\, Wells Fargo\, Wakeland Corp\, Union Bank\, US Bank and City of Riverside \nDownload Flyer
URL:https://fairhousing.net/event/first-time-homebuyer-workshop-spanish-8/
LOCATION:Fair Housing Council of Riverside Main Office\, 3933 Mission Inn Ave\, Riverside\, CA\, 92501\, United States
CATEGORIES:Fair Housing Workshops,First Time Homebuyers
ATTACH;FMTTYPE=image/png:https://fairhousing.net/wp-content/uploads/2022/12/First-Time-Homebuyers-Workshops-2022-2023.png
ORGANIZER;CN="Fair Housing Council of Riverside County":MAILTO:fhcrc@fairhousing.net
END:VEVENT
BEGIN:VEVENT
DTSTART;TZID=UTC:20230226T140000
DTEND;TZID=UTC:20230226T170000
DTSTAMP:20260419T151034
CREATED:20230131T160648Z
LAST-MODIFIED:20230131T160648Z
UID:27922-1677420000-1677430800@fairhousing.net
SUMMARY:Legacy Builders Awards
DESCRIPTION:Legacy Builders recognizes and honors accomplished leaders/couples making a difference in the Riverside community and impacting our city through community service. We invite you to join us as we pay tribute to Dell and Carmen Roberts\, Dr. Angelo and Vessy Farooq\, Dwight Tate and Kathy Wright\, and Ofelia and Ley Yeager. \nThroughout Inland Southern California\, the good works of our honorees are visible when you see the monuments of those who fought for Civil Rights within the region. Their ongoing commitment to preserve the history of our Civil Rights is commendable. Their work for the enhancement of Arts and Culture within our city is ongoing as evidenced by the beauty that has ensued.  They continue to make an impact in our region supporting and mentoring our young people\, by organizing leadership classes\, serving on school boards\, and furthering job opportunities.
URL:https://fairhousing.net/event/legacy-builders-awards/
LOCATION:Marriott Riverside\, 3400 Market Street\, Riverside\, CA\, 92501\, United States
CATEGORIES:Community Event
ATTACH;FMTTYPE=image/png:https://fairhousing.net/wp-content/uploads/2023/01/Legacy-Builders-Awards-IG.png
ORGANIZER;CN="Riverside African-American Historical Society (RAAHS)":MAILTO:info@raahsinc.org
END:VEVENT
BEGIN:VEVENT
DTSTART;TZID=UTC:20230226T140000
DTEND;TZID=UTC:20230226T170000
DTSTAMP:20260419T151034
CREATED:20230131T163853Z
LAST-MODIFIED:20230210T004719Z
UID:27929-1677420000-1677430800@fairhousing.net
SUMMARY:Legacy Builders Awards
DESCRIPTION:Legacy Builders recognizes and honors accomplished leaders/couples making a difference in the Riverside community and impacting our city through community service. We invite you to join us as we pay tribute to Dell and Carmen Roberts\, Dr. Angelo and Vessy Farooq\, Dwight Tate and Kathy Wright\, and Ofelia and Ley Yeager. \nThroughout Inland Southern California\, the good works of our honorees are visible when you see the monuments of those who fought for Civil Rights within the region. Their ongoing commitment to preserve the history of our Civil Rights is commendable. Their work for the enhancement of Arts and Culture within our city is ongoing as evidenced by the beauty that has ensued.  They continue to make an impact in our region supporting and mentoring our young people\, by organizing leadership classes\, serving on school boards\, and furthering job opportunities. \nRSVP by February 22\, 2023. \n\nTo attend\, please call 951-682-6581 x117.
URL:https://fairhousing.net/event/legacy-builders-awards-2/
LOCATION:Riverside Marriot\, 3400 Market Street\, Riverside\, CA\, 92501\, United States
CATEGORIES:Community Event
ATTACH;FMTTYPE=image/png:https://fairhousing.net/wp-content/uploads/2023/01/Legacy-Builders-Awards-IG.png
ORGANIZER;CN="Riverside African-American Historical Society (RAAHS)":MAILTO:info@raahsinc.org
END:VEVENT
END:VCALENDAR